BEGIN:VCALENDAR
VERSION:2.0
PRODID:spatie/icalendar-generator
DESCRIPTION:Veranstaltungen von Wirtschaftsjunioren Deutschland
X-WR-CALDESC:Veranstaltungen von Wirtschaftsjunioren Deutschland
REFRESH-INTERVAL;VALUE=DURATION:PT1440M
X-PUBLISHED-TTL:PT1440M
BEGIN:VTIMEZONE
TZID:Europe/Berlin
BEGIN:STANDARD
DTSTART:20251026T030000Z
TZOFFSETFROM:+0200
TZOFFSETTO:+0100
END:STANDARD
BEGIN:DAYLIGHT
DTSTART:20260329T020000Z
TZOFFSETFROM:+0100
TZOFFSETTO:+0200
END:DAYLIGHT
BEGIN:STANDARD
DTSTART:20261025T030000Z
TZOFFSETFROM:+0200
TZOFFSETTO:+0100
END:STANDARD
END:VTIMEZONE
BEGIN:VTIMEZONE
TZID:UTC
BEGIN:STANDARD
DTSTART:20250724T144454Z
TZOFFSETFROM:+0000
TZOFFSETTO:+0000
END:STANDARD
END:VTIMEZONE
BEGIN:VEVENT
UID:216-200
DTSTAMP:20260420T144454Z
SUMMARY:Bundesvorstandssitzung
LOCATION:Pforzheim
ORGANIZER;CN=lenapeltzer:MAILTO:lena.peltzer@wjd.de
DTSTART;TZID=Europe/Berlin:20260410T100000
DTEND;TZID=Europe/Berlin:20260410T160000
X-ALT-DESC;FMTTYPE=TEXT/HTML:
CATEGORIES:Sitzungen
URL;VALUE=URI:https://wjd.de/veranstaltungen/?mc_id=216
METHOD:PUBLISH
END:VEVENT
BEGIN:VEVENT
UID:251-181
DTSTAMP:20260420T144454Z
SUMMARY:WJD-Frühjahrsdelegiertenversammlung
LOCATION:Pforzheim
ORGANIZER;CN=lenapeltzer:MAILTO:lena.peltzer@wjd.de
DTSTART;TZID=Europe/Berlin;VALUE=DATE:20260411
DTEND;TZID=Europe/Berlin;VALUE=DATE:20260412
X-ALT-DESC;FMTTYPE=TEXT/HTML:<p>Die Frühjahrsdelegiertenversammlung wird v
 on wechselnden WJ-Kreisen\, nach Bewerbung und Beschluss der Delegierten\,
  ausgerichtet. Hier fallen die ersten wichtigen Entscheidungen und dabei m
 itzubestimmen\, ist Euer satzungsmäßiges Recht.</p>\n<p>Die Tagesordnung
  der Frühjahrssitzung enthält mindestens die Entgegennahme des Berichts 
 der Rechnungsprüfer\, die Genehmigung des Jahresabschlusses für das vora
 ngegangene Geschäftsjahr und die Entlastung des WJD-Bundesvorstands sowie
  die Genehmigung des Budgets für das laufende Geschäftsjahr.</p>\n
CATEGORIES:Sitzungen
URL;VALUE=URI:https://wjd.de/veranstaltungen/?mc_id=251
METHOD:PUBLISH
END:VEVENT
BEGIN:VEVENT
UID:227-210
DTSTAMP:20260420T144454Z
SUMMARY:Süd-West Academy (SWA)
LOCATION:Wertheim
ORGANIZER;CN=lenapeltzer:MAILTO:lena.peltzer@wjd.de
DTSTART;TZID=Europe/Berlin;VALUE=DATE:20260417
DTEND;TZID=Europe/Berlin;VALUE=DATE:20260420
X-ALT-DESC;FMTTYPE=TEXT/HTML:<p>WAS?<br />\nDie SWA ist eine Gemeinschaftsv
 eranstaltung der Länder Baden-Württemberg\, Rheinland-Pfalz\, Hessen und
  Saarland und findet abwechselnd in einem Kreis der vier Landesverbände s
 tatt – dieses Jahr bei uns in Wertheim im WJ-Kreis Heilbronn-Franken! Da
 s ist deine Chance\, bei der SWA dabei zu sein.</p>\n<p>WANN?<br />\nTEIL 
 1<br />\nFreitag\, 17.04.2026 – Samstag\, 18.04.2026</p>\n<p>TEIL 2<br />\nSonntag\, 19.04.2026</p>\n<p>WO?<br />\nBei den Wirtschaftsjunioren Hei
 lbronn-Franken</p>\n<p>Rathaus - Arkadensaal<br />\n97877 Wertheim</p>\n
CATEGORIES:Academy
URL;VALUE=URI:https://wjd.de/veranstaltungen/?mc_id=227
METHOD:PUBLISH
END:VEVENT
BEGIN:VEVENT
UID:228-211
DTSTAMP:20260420T144454Z
SUMMARY:Süd-West Academy (SWA)
LOCATION:Wertheim
ORGANIZER;CN=lenapeltzer:MAILTO:lena.peltzer@wjd.de
DTSTART;TZID=Europe/Berlin;VALUE=DATE:20260417
DTEND;TZID=Europe/Berlin;VALUE=DATE:20260420
X-ALT-DESC;FMTTYPE=TEXT/HTML:<p>WAS?<br />\nDie SWA ist eine Gemeinschaftsv
 eranstaltung der Länder Baden-Württemberg\, Rheinland-Pfalz\, Hessen und
  Saarland und findet abwechselnd in einem Kreis der vier Landesverbände s
 tatt – dieses Jahr bei uns in Wertheim im WJ-Kreis Heilbronn-Franken! Da
 s ist deine Chance\, bei der SWA dabei zu sein.</p>\n<p>WANN?<br />\nTEIL 
 1<br />\nFreitag\, 17.04.2026 – Samstag\, 18.04.2026</p>\n<p>TEIL 2<br />\nSonntag\, 19.04.2026</p>\n<p>WO?<br />\nBei den Wirtschaftsjunioren Hei
 lbronn-Franken</p>\n<p>Rathaus - Arkadensaal<br />\n97877 Wertheim</p>\n
CATEGORIES:Academy
URL;VALUE=URI:https://wjd.de/veranstaltungen/?mc_id=228
METHOD:PUBLISH
END:VEVENT
BEGIN:VEVENT
UID:227-210
DTSTAMP:20260420T144454Z
SUMMARY:Süd-West Academy (SWA)
LOCATION:Wertheim
ORGANIZER;CN=lenapeltzer:MAILTO:lena.peltzer@wjd.de
DTSTART;TZID=Europe/Berlin;VALUE=DATE:20260417
DTEND;TZID=Europe/Berlin;VALUE=DATE:20260420
X-ALT-DESC;FMTTYPE=TEXT/HTML:<p>WAS?<br />\nDie SWA ist eine Gemeinschaftsv
 eranstaltung der Länder Baden-Württemberg\, Rheinland-Pfalz\, Hessen und
  Saarland und findet abwechselnd in einem Kreis der vier Landesverbände s
 tatt – dieses Jahr bei uns in Wertheim im WJ-Kreis Heilbronn-Franken! Da
 s ist deine Chance\, bei der SWA dabei zu sein.</p>\n<p>WANN?<br />\nTEIL 
 1<br />\nFreitag\, 17.04.2026 – Samstag\, 18.04.2026</p>\n<p>TEIL 2<br />\nSonntag\, 19.04.2026</p>\n<p>WO?<br />\nBei den Wirtschaftsjunioren Hei
 lbronn-Franken</p>\n<p>Rathaus - Arkadensaal<br />\n97877 Wertheim</p>\n
CATEGORIES:Academy
URL;VALUE=URI:https://wjd.de/veranstaltungen/?mc_id=227
METHOD:PUBLISH
END:VEVENT
BEGIN:VEVENT
UID:228-211
DTSTAMP:20260420T144454Z
SUMMARY:Süd-West Academy (SWA)
LOCATION:Wertheim
ORGANIZER;CN=lenapeltzer:MAILTO:lena.peltzer@wjd.de
DTSTART;TZID=Europe/Berlin;VALUE=DATE:20260417
DTEND;TZID=Europe/Berlin;VALUE=DATE:20260420
X-ALT-DESC;FMTTYPE=TEXT/HTML:<p>WAS?<br />\nDie SWA ist eine Gemeinschaftsv
 eranstaltung der Länder Baden-Württemberg\, Rheinland-Pfalz\, Hessen und
  Saarland und findet abwechselnd in einem Kreis der vier Landesverbände s
 tatt – dieses Jahr bei uns in Wertheim im WJ-Kreis Heilbronn-Franken! Da
 s ist deine Chance\, bei der SWA dabei zu sein.</p>\n<p>WANN?<br />\nTEIL 
 1<br />\nFreitag\, 17.04.2026 – Samstag\, 18.04.2026</p>\n<p>TEIL 2<br />\nSonntag\, 19.04.2026</p>\n<p>WO?<br />\nBei den Wirtschaftsjunioren Hei
 lbronn-Franken</p>\n<p>Rathaus - Arkadensaal<br />\n97877 Wertheim</p>\n
CATEGORIES:Academy
URL;VALUE=URI:https://wjd.de/veranstaltungen/?mc_id=228
METHOD:PUBLISH
END:VEVENT
BEGIN:VEVENT
UID:227-210
DTSTAMP:20260420T144454Z
SUMMARY:Süd-West Academy (SWA)
LOCATION:Wertheim
ORGANIZER;CN=lenapeltzer:MAILTO:lena.peltzer@wjd.de
DTSTART;TZID=Europe/Berlin;VALUE=DATE:20260417
DTEND;TZID=Europe/Berlin;VALUE=DATE:20260420
X-ALT-DESC;FMTTYPE=TEXT/HTML:<p>WAS?<br />\nDie SWA ist eine Gemeinschaftsv
 eranstaltung der Länder Baden-Württemberg\, Rheinland-Pfalz\, Hessen und
  Saarland und findet abwechselnd in einem Kreis der vier Landesverbände s
 tatt – dieses Jahr bei uns in Wertheim im WJ-Kreis Heilbronn-Franken! Da
 s ist deine Chance\, bei der SWA dabei zu sein.</p>\n<p>WANN?<br />\nTEIL 
 1<br />\nFreitag\, 17.04.2026 – Samstag\, 18.04.2026</p>\n<p>TEIL 2<br />\nSonntag\, 19.04.2026</p>\n<p>WO?<br />\nBei den Wirtschaftsjunioren Hei
 lbronn-Franken</p>\n<p>Rathaus - Arkadensaal<br />\n97877 Wertheim</p>\n
CATEGORIES:Academy
URL;VALUE=URI:https://wjd.de/veranstaltungen/?mc_id=227
METHOD:PUBLISH
END:VEVENT
BEGIN:VEVENT
UID:228-211
DTSTAMP:20260420T144454Z
SUMMARY:Süd-West Academy (SWA)
LOCATION:Wertheim
ORGANIZER;CN=lenapeltzer:MAILTO:lena.peltzer@wjd.de
DTSTART;TZID=Europe/Berlin;VALUE=DATE:20260417
DTEND;TZID=Europe/Berlin;VALUE=DATE:20260420
X-ALT-DESC;FMTTYPE=TEXT/HTML:<p>WAS?<br />\nDie SWA ist eine Gemeinschaftsv
 eranstaltung der Länder Baden-Württemberg\, Rheinland-Pfalz\, Hessen und
  Saarland und findet abwechselnd in einem Kreis der vier Landesverbände s
 tatt – dieses Jahr bei uns in Wertheim im WJ-Kreis Heilbronn-Franken! Da
 s ist deine Chance\, bei der SWA dabei zu sein.</p>\n<p>WANN?<br />\nTEIL 
 1<br />\nFreitag\, 17.04.2026 – Samstag\, 18.04.2026</p>\n<p>TEIL 2<br />\nSonntag\, 19.04.2026</p>\n<p>WO?<br />\nBei den Wirtschaftsjunioren Hei
 lbronn-Franken</p>\n<p>Rathaus - Arkadensaal<br />\n97877 Wertheim</p>\n
CATEGORIES:Academy
URL;VALUE=URI:https://wjd.de/veranstaltungen/?mc_id=228
METHOD:PUBLISH
END:VEVENT
BEGIN:VEVENT
UID:225-208
DTSTAMP:20260420T144454Z
SUMMARY:Senatorenkonferenz 2026
LOCATION:Saarbrücken
ORGANIZER;CN=lenapeltzer:MAILTO:lena.peltzer@wjd.de
DTSTART;TZID=Europe/Berlin;VALUE=DATE:20260423
DTEND;TZID=Europe/Berlin;VALUE=DATE:20260427
X-ALT-DESC;FMTTYPE=TEXT/HTML:<p>Vom 23. bis 26. April 2026 findet die Groß
 veranstaltung Senatorenkonferenz 2026 in und um Saarbrücken statt. Freut 
 Euch auf ein tolles Programm rund um Geschichte\, Kultur und Genuss.</p>\n
CATEGORIES:Konferenz
URL;VALUE=URI:https://wjd.de/veranstaltungen/?mc_id=225
METHOD:PUBLISH
END:VEVENT
BEGIN:VEVENT
UID:226-209
DTSTAMP:20260420T144454Z
SUMMARY:Senatorenkonferenz 2026
LOCATION:Saarbrücken
ORGANIZER;CN=lenapeltzer:MAILTO:lena.peltzer@wjd.de
DTSTART;TZID=Europe/Berlin;VALUE=DATE:20260423
DTEND;TZID=Europe/Berlin;VALUE=DATE:20260427
X-ALT-DESC;FMTTYPE=TEXT/HTML:<p>Vom 23. bis 26. April 2026 findet die Groß
 veranstaltung Senatorenkonferenz 2026 in und um Saarbrücken statt. Freut 
 Euch auf ein tolles Programm rund um Geschichte\, Kultur und Genuss.</p>\n
CATEGORIES:Konferenz
URL;VALUE=URI:https://wjd.de/veranstaltungen/?mc_id=226
METHOD:PUBLISH
END:VEVENT
BEGIN:VEVENT
UID:225-208
DTSTAMP:20260420T144454Z
SUMMARY:Senatorenkonferenz 2026
LOCATION:Saarbrücken
ORGANIZER;CN=lenapeltzer:MAILTO:lena.peltzer@wjd.de
DTSTART;TZID=Europe/Berlin;VALUE=DATE:20260423
DTEND;TZID=Europe/Berlin;VALUE=DATE:20260427
X-ALT-DESC;FMTTYPE=TEXT/HTML:<p>Vom 23. bis 26. April 2026 findet die Groß
 veranstaltung Senatorenkonferenz 2026 in und um Saarbrücken statt. Freut 
 Euch auf ein tolles Programm rund um Geschichte\, Kultur und Genuss.</p>\n
CATEGORIES:Konferenz
URL;VALUE=URI:https://wjd.de/veranstaltungen/?mc_id=225
METHOD:PUBLISH
END:VEVENT
BEGIN:VEVENT
UID:226-209
DTSTAMP:20260420T144454Z
SUMMARY:Senatorenkonferenz 2026
LOCATION:Saarbrücken
ORGANIZER;CN=lenapeltzer:MAILTO:lena.peltzer@wjd.de
DTSTART;TZID=Europe/Berlin;VALUE=DATE:20260423
DTEND;TZID=Europe/Berlin;VALUE=DATE:20260427
X-ALT-DESC;FMTTYPE=TEXT/HTML:<p>Vom 23. bis 26. April 2026 findet die Groß
 veranstaltung Senatorenkonferenz 2026 in und um Saarbrücken statt. Freut 
 Euch auf ein tolles Programm rund um Geschichte\, Kultur und Genuss.</p>\n
CATEGORIES:Konferenz
URL;VALUE=URI:https://wjd.de/veranstaltungen/?mc_id=226
METHOD:PUBLISH
END:VEVENT
BEGIN:VEVENT
UID:225-208
DTSTAMP:20260420T144454Z
SUMMARY:Senatorenkonferenz 2026
LOCATION:Saarbrücken
ORGANIZER;CN=lenapeltzer:MAILTO:lena.peltzer@wjd.de
DTSTART;TZID=Europe/Berlin;VALUE=DATE:20260423
DTEND;TZID=Europe/Berlin;VALUE=DATE:20260427
X-ALT-DESC;FMTTYPE=TEXT/HTML:<p>Vom 23. bis 26. April 2026 findet die Groß
 veranstaltung Senatorenkonferenz 2026 in und um Saarbrücken statt. Freut 
 Euch auf ein tolles Programm rund um Geschichte\, Kultur und Genuss.</p>\n
CATEGORIES:Konferenz
URL;VALUE=URI:https://wjd.de/veranstaltungen/?mc_id=225
METHOD:PUBLISH
END:VEVENT
BEGIN:VEVENT
UID:226-209
DTSTAMP:20260420T144454Z
SUMMARY:Senatorenkonferenz 2026
LOCATION:Saarbrücken
ORGANIZER;CN=lenapeltzer:MAILTO:lena.peltzer@wjd.de
DTSTART;TZID=Europe/Berlin;VALUE=DATE:20260423
DTEND;TZID=Europe/Berlin;VALUE=DATE:20260427
X-ALT-DESC;FMTTYPE=TEXT/HTML:<p>Vom 23. bis 26. April 2026 findet die Groß
 veranstaltung Senatorenkonferenz 2026 in und um Saarbrücken statt. Freut 
 Euch auf ein tolles Programm rund um Geschichte\, Kultur und Genuss.</p>\n
CATEGORIES:Konferenz
URL;VALUE=URI:https://wjd.de/veranstaltungen/?mc_id=226
METHOD:PUBLISH
END:VEVENT
BEGIN:VEVENT
UID:252-182
DTSTAMP:20260420T144454Z
SUMMARY:W³-Bundesfinale
LOCATION:Esslingen
ORGANIZER;CN=lenapeltzer:MAILTO:lena.peltzer@wjd.de
DTSTART;TZID=Europe/Berlin;VALUE=DATE:20260425
DTEND;TZID=Europe/Berlin;VALUE=DATE:20260426
X-ALT-DESC;FMTTYPE=TEXT/HTML:<p>Wir suchen Deutschlands schlaueste Schüler
 :innen. Dafür gehen wir mit unserem Wirtschaftsquiz „Wirtschaftswissen 
 im Wettbewerb“ (W³) einmal im Jahr an die Schulen und testen das Wissen
  der Neunt- und Zehntklässler:innen. Rund 22.000 Schüler:innen beantwort
 en die Fragen aus den Bereichen Wirtschaft\, Internationales\, Finanzen un
 d Digitalisierung. Die erste Runde des Wettbewerbs findet auf Kreisebene s
 tatt. Alle Kreissieger:innen treffen beim Bundesfinale aufeinander und kä
 mpfen um den Gesamtsieg.</p>\n
CATEGORIES:Offizielle Termine
URL;VALUE=URI:https://wjd.de/veranstaltungen/?mc_id=252
METHOD:PUBLISH
END:VEVENT
BEGIN:VEVENT
UID:225-208
DTSTAMP:20260420T144454Z
SUMMARY:Senatorenkonferenz 2026
LOCATION:Saarbrücken
ORGANIZER;CN=lenapeltzer:MAILTO:lena.peltzer@wjd.de
DTSTART;TZID=Europe/Berlin;VALUE=DATE:20260423
DTEND;TZID=Europe/Berlin;VALUE=DATE:20260427
X-ALT-DESC;FMTTYPE=TEXT/HTML:<p>Vom 23. bis 26. April 2026 findet die Groß
 veranstaltung Senatorenkonferenz 2026 in und um Saarbrücken statt. Freut 
 Euch auf ein tolles Programm rund um Geschichte\, Kultur und Genuss.</p>\n
CATEGORIES:Konferenz
URL;VALUE=URI:https://wjd.de/veranstaltungen/?mc_id=225
METHOD:PUBLISH
END:VEVENT
BEGIN:VEVENT
UID:226-209
DTSTAMP:20260420T144454Z
SUMMARY:Senatorenkonferenz 2026
LOCATION:Saarbrücken
ORGANIZER;CN=lenapeltzer:MAILTO:lena.peltzer@wjd.de
DTSTART;TZID=Europe/Berlin;VALUE=DATE:20260423
DTEND;TZID=Europe/Berlin;VALUE=DATE:20260427
X-ALT-DESC;FMTTYPE=TEXT/HTML:<p>Vom 23. bis 26. April 2026 findet die Groß
 veranstaltung Senatorenkonferenz 2026 in und um Saarbrücken statt. Freut 
 Euch auf ein tolles Programm rund um Geschichte\, Kultur und Genuss.</p>\n
CATEGORIES:Konferenz
URL;VALUE=URI:https://wjd.de/veranstaltungen/?mc_id=226
METHOD:PUBLISH
END:VEVENT
BEGIN:VEVENT
UID:257-230
DTSTAMP:20260420T144454Z
SUMMARY:Working Parents Lunch - Austausch für (werdende) Eltern bei den Wi
 rtschaftsjunioren
LOCATION:Online
ORGANIZER;CN=Marcel Larsen:MAILTO:marcel.larsen@wjd.de
DTSTART;TZID=Europe/Berlin:20260428T120000
DTEND;TZID=Europe/Berlin:20260428T130000
X-ALT-DESC;FMTTYPE=TEXT/HTML:<p>Alle Infos\, Austausch und Anmeldung über 
 die WJ Working Parents WhatsApp-Gruppe</p>\n
CATEGORIES:Austausch
URL;VALUE=URI:https://wjd.de/veranstaltungen/?mc_id=257
METHOD:PUBLISH
END:VEVENT
BEGIN:VEVENT
UID:224-207
DTSTAMP:20260420T144454Z
SUMMARY:JCI Europakonferenz (EuKo)
LOCATION:Malaga\, Spanien
ORGANIZER;CN=lenapeltzer:MAILTO:lena.peltzer@wjd.de
DTSTART;TZID=Europe/Berlin;VALUE=DATE:20260429
DTEND;TZID=Europe/Berlin;VALUE=DATE:20260503
X-ALT-DESC;FMTTYPE=TEXT/HTML:<p>Get ready for an unforgettable journey of l
 eadership\, impact\, culture\, and connection. Join young leaders from acr
 oss Europe and beyond in the heart of Spain’s Costa del Sol for the 2026
  JCI European Conference. Dive into bold ideas\, lifelong friendships\, an
 d Mediterranean magic.</p>\n
CATEGORIES:Offizielle Termine
URL;VALUE=URI:https://wjd.de/veranstaltungen/?mc_id=224
METHOD:PUBLISH
END:VEVENT
BEGIN:VEVENT
UID:224-207
DTSTAMP:20260420T144454Z
SUMMARY:JCI Europakonferenz (EuKo)
LOCATION:Malaga\, Spanien
ORGANIZER;CN=lenapeltzer:MAILTO:lena.peltzer@wjd.de
DTSTART;TZID=Europe/Berlin;VALUE=DATE:20260429
DTEND;TZID=Europe/Berlin;VALUE=DATE:20260503
X-ALT-DESC;FMTTYPE=TEXT/HTML:<p>Get ready for an unforgettable journey of l
 eadership\, impact\, culture\, and connection. Join young leaders from acr
 oss Europe and beyond in the heart of Spain’s Costa del Sol for the 2026
  JCI European Conference. Dive into bold ideas\, lifelong friendships\, an
 d Mediterranean magic.</p>\n
CATEGORIES:Offizielle Termine
URL;VALUE=URI:https://wjd.de/veranstaltungen/?mc_id=224
METHOD:PUBLISH
END:VEVENT
BEGIN:VEVENT
UID:224-207
DTSTAMP:20260420T144454Z
SUMMARY:JCI Europakonferenz (EuKo)
LOCATION:Malaga\, Spanien
ORGANIZER;CN=lenapeltzer:MAILTO:lena.peltzer@wjd.de
DTSTART;TZID=Europe/Berlin;VALUE=DATE:20260429
DTEND;TZID=Europe/Berlin;VALUE=DATE:20260503
X-ALT-DESC;FMTTYPE=TEXT/HTML:<p>Get ready for an unforgettable journey of l
 eadership\, impact\, culture\, and connection. Join young leaders from acr
 oss Europe and beyond in the heart of Spain’s Costa del Sol for the 2026
  JCI European Conference. Dive into bold ideas\, lifelong friendships\, an
 d Mediterranean magic.</p>\n
CATEGORIES:Offizielle Termine
URL;VALUE=URI:https://wjd.de/veranstaltungen/?mc_id=224
METHOD:PUBLISH
END:VEVENT
BEGIN:VEVENT
UID:224-207
DTSTAMP:20260420T144454Z
SUMMARY:JCI Europakonferenz (EuKo)
LOCATION:Malaga\, Spanien
ORGANIZER;CN=lenapeltzer:MAILTO:lena.peltzer@wjd.de
DTSTART;TZID=Europe/Berlin;VALUE=DATE:20260429
DTEND;TZID=Europe/Berlin;VALUE=DATE:20260503
X-ALT-DESC;FMTTYPE=TEXT/HTML:<p>Get ready for an unforgettable journey of l
 eadership\, impact\, culture\, and connection. Join young leaders from acr
 oss Europe and beyond in the heart of Spain’s Costa del Sol for the 2026
  JCI European Conference. Dive into bold ideas\, lifelong friendships\, an
 d Mediterranean magic.</p>\n
CATEGORIES:Offizielle Termine
URL;VALUE=URI:https://wjd.de/veranstaltungen/?mc_id=224
METHOD:PUBLISH
END:VEVENT
END:VCALENDAR